BEGIN:VCALENDAR
VERSION:2.0
CALSCALE:GREGORIAN
PRODID:adamgibbons/ics
METHOD:PUBLISH
X-PUBLISHED-TTL:PT1H
BEGIN:VEVENT
UID:391@buffalol.askapunk.net
SUMMARY:Steel Basher\, The Sneers and The Catastrophes (Nashville)
DTSTAMP:20260423T051639Z
DTSTART:20260609T230000Z
DTEND:20260610T030000Z
DESCRIPTION:The Catastrophes (Nashville)\nhttps://thecatastrophespunk.bandc
	amp.com/\n[https://thecatastrophespunk.bandcamp.com/]\n\nSteel Bashers\nht
	tps://steelbashersoi.bandcamp.com/album/demo\n[https://steelbashersoi.band
	camp.com/album/demo]\n\nThe Sneers\nhttps://thesneers.bandcamp.com/album/s
	ongs-in-the-key-of-mike\n[https://thesneers.bandcamp.com/album/songs-in-th
	e-key-of-mike]
URL:https://buffalo.askapunk.net/event/steel-basher-the-sneers-and-the-cata
	strophes-nashville
LOCATION:Area 54 - 3234 Main St
STATUS:CONFIRMED
CATEGORIES:Area 54,The Sneers,Steel Bashers,The Catastrophes,Amy’s Place
X-ALT-DESC;FMTTYPE=text/html:<p>The Catastrophes (Nashville) <br><a href="h
	ttps://thecatastrophespunk.bandcamp.com/" target="_blank">https://thecatas
	trophespunk.bandcamp.com/</a><br><br>Steel Bashers<br><a href="https://ste
	elbashersoi.bandcamp.com/album/demo" target="_blank">https://steelbasherso
	i.bandcamp.com/album/demo</a><br><br>The Sneers<br><a href="https://thesne
	ers.bandcamp.com/album/songs-in-the-key-of-mike" target="_blank">https://t
	hesneers.bandcamp.com/album/songs-in-the-key-of-mike</a></p>
BEGIN:VALARM
ACTION:DISPLAY
DESCRIPTION:Steel Basher, The Sneers and The Catastrophes (Nashville)
TRIGGER:-PT1H
END:VALARM
END:VEVENT
END:VCALENDAR
