BEGIN:VCALENDAR
VERSION:2.0
CALSCALE:GREGORIAN
PRODID:adamgibbons/ics
METHOD:PUBLISH
X-PUBLISHED-TTL:PT1H
BEGIN:VEVENT
UID:389@buffalol.askapunk.net
SUMMARY:Pissguzzler\, Selfish Act\, Alchemy\, Detour\, Bad Optics
DTSTAMP:20260423T070012Z
DTSTART:20260503T220000Z
DTEND:20260504T020000Z
URL:https://buffalo.askapunk.net/event/pissguzzler-selfish-act-alchemy-deto
	ur-bad-optics
LOCATION:Area 54 - 3234 Main St
STATUS:CONFIRMED
CATEGORIES:Alchemy,Amy’s Place,Area 54,Detour,Selfish Act,pissguzzler
END:VEVENT
END:VCALENDAR
